{"text_format":"1","workbook":"xlsx","n_sheets":4,"sheets":["NUOSTATAI","Teams","Timetable","Resultstable"],"not_rendered":{"charts":0,"images":1,"macros":1,"external_links":0,"defined_names":0,"comments":0,"pivot_tables":0},"unopened":[],"bounds":{"document_bytes":16777216,"sheet_cells":100000,"rows_first":2000,"rows_last":500,"rows_between":2000,"halvings":0,"cell_chars":16384,"cell_head_chars":4096},"cells_cut":0,"cells_raw":0,"read":"whole","date_system":"1900"}

{"sheet":"NUOSTATAI","index":0,"n_rows":34,"n_cols":1,"rows_kept":34,"cut":false,"hidden":false,"merged":[]}
[]
[]
["PAPLŪDIMIO TINKLINIO 2X2 NUOSTATAI"]
[]
["TIKSLAI IR UŽDAVINIAI:"]
["Populiarinti tinklinio sportą, kaip puikią fizinio lavinimo ir pramogų priemonę."]
["Bendrauti varžybų metu."]
["VIETA IR LAIKAS:"]
["Druskininkai, Paplūdimio tinklinio aikštynas."]
["2022 m. LIEPOS 15,16,17 d."]
["REGISTRACIJA LIEPOS 15d. NUO 09 00 IKI 09:45 VAL."]
["Varžybų pradžia: 10 00 val."]
[]
["VARŽYBŲ DALYVIAI"]
["Varžybose dalyvauja visi iš anksto registruoti dalyviai."]
["Varžybų organizatoriai neatsako už varžybų dalyvių sveikatą"]
[]
["VARŽYBŲ VYKDYMO TAISYKLĖS:"]
["Varžybos bus vykdomos pagal oficialias FIVB paplūdimio tinklinio taisykles. Varžybų sistema bus sudaryta iš rungtynių grupėse, 1-no arba 2-jų minusų, (dėl setų ir taškų skaičiaus bus sudaryta varžybų vietoje, atsižvelgiant į"]
["komandų skaičių.)"]
[]
["VYKDYMO SALYGOS:"]
["Varžybos bus vykdomos Duskininkų paplūdimio tinklinio esančiose aikštynuose."]
["REGISTRACIJA:"]
["Registracija varžybų dieną (LIEPOS 15d. nuo 09:00 val. Iki 09:45 val.)"]
[]
["VADOVAVIMAS VARŽYBOMS"]
["Varžybas vykdo: PAPLŪDIMIO TINKLINIO CENTRAS."]
["Vyr.teisėjas: Vusal Guseinov."]
[" El.p. vusalgus88@gmail.com; "]
[" (tel. +370 639 16611) "]
["Vyr.sekretorius: Raimonda Strelkauskaite"]
["APDOVANOJIMAI:"]
["Nugalėtojai bus apdovanojami taurėmis ir medaliais."]

{"sheet":"Teams","index":1,"n_rows":27,"n_cols":6,"rows_kept":27,"cut":false,"hidden":false,"merged":[]}
["Pasirinkimas (Seed)","Komandos pavadinimas","Pogrupis",null,"Varzybu pavadinimas","LIETUVIŲ PASAULIO ŽAIDYNĖS VYRAI"]
[null,"MACAULAY-LABRADOR",1,null,"Vieta","DRUSKININKAI"]
[null,"FINI-ZORZETTO",2,null,"Data","2022.07.15-17"]
[null,"SAVICKAS-SAVICKAS",3]
[null,"GRABYS-NIKIFOROVAS",4,null,"Pogrupiu sk.",6]
[null,"NIKITCENKO-HASANI",5,null,"Suskirstyti I pogrupius automatiskai"]
[null,"SEMIONOVAS-SNIPAS",6,null,"Suformuoti lentele"]
[null,"TUMOSA-STANIULIS",6]
[null,"AUGUNAS-CYVAS",5]
[null,"VILCINSKAS-VILUTIS",4]
[null,"LOSYS-LOSYS",3]
[null,"PALELIUNAS-POVILAITIS",2]
[null,"ARBOCIUS-SKILINSKAS",1]
[null,"BALEVICIUS-BARAUSKAS",1]
[null,"LYNIKAS-PAULIUKONIS",2]
[null,"SAUKEVICIUS-MOCKUS",3]
[null,"SNIAUKA-VAITKUS",4]
[null,"PREKEVICIUS-ANTANAVICIUS",5]
[null,"BARADULINAS-KAZLAUSKAS",6]
[null,"MATACIUNAS-GRAINYS",6]
[null,"JASKAUSKAS-KAVOLYNAS",5]
[null,"KRIUKONIS-LIPINSKAS",4]
[null,"SONGINAS-JUSKAUSKAS",3]
[null,"LIPINSKAS-BAKANAUSKAS",2]
[null,"GRABAUSKAS-VARENOV",1]
[null,"VARENOV-STRALINSKAS",1]
[null,"BENIULIS-DRANEVICIUS",2]

{"sheet":"Timetable","index":2,"n_rows":55,"n_cols":32,"rows_kept":55,"cut":false,"hidden":false,"merged":[[0,0,0,27],[1,0,1,27],[2,0,2,27],[5,0,5,27],[4,7,4,9],[4,11,4,13],[4,14,4,16],[4,17,4,19],[4,20,4,22],[4,23,4,25],[34,0,34,27],[41,0,41,27],[48,0,48,27],[16,0,16,27],[4,29,4,31],[27,0,27,27]]}
[{"$f":"Teams!F1","v":"LIETUVIŲ PASAULIO ŽAIDYNĖS VYRAI"}]
[{"$f":"CONCATENATE(Teams!F2,\" \", Teams!F3)","v":"DRUSKININKAI 2022.07.15-17"}]
["Tvarkaraštis"]
[]
["Rungtynių data","Rungtynių Nr.","Turas","Aikštė","Šeimininkai","vs","Svečiai","Rezultatas",null,null,"Trukmė","1. Setas",null,null,"2. Setas",null,null,"3. Setas",null,null,"4. Setas",null,null,"5. Setas",null,null,"Pradžios laikas","Pabaigos laikas",null,"Rezultatas taškai"]
["1 Pogrupis"]
["2022.07.15",null,"I",3,"GRABAUSKAS-VARENOV","vs","BALEVICIUS-BARAUSKAS",{"$f":"IF(L7=N7,0,SUM(IF(L7>N7,1,0),IF(O7>Q7,1,0),IF(R7<=T7,0,1),IF(U7<=W7,0,1),IF(X7<=Z7,0,1),))","v":0},"<->",{"$f":"IF(L7=N7,0,SUM(IF(L7<N7,1,0),IF(O7<Q7,1,0),IF(R7>=T7,0,1),IF(U7>=W7,0,1),IF(X7>=Z7,0,1),))","v":0},{"$f":"IF(AB7=0,0,SUM(AB7-AA7))","v":"00:00:00"},null,"<->",null,null,"<->",null,null,"<->",null,null,"<->",null,null,"<->",null,"10.00",null,null,{"$f":"L7+O7+R7+U7+X7","v":0},"<->",{"$f":"N7+Q7+T7+W7+Z7","v":0}]
["2022.07.15",null,"I",3,"VARENOV-STRALINSKAS","vs","ARBOCIUS-SKILINSKAS",0,"<->",0,"00:00:00",null,"<->",null,null,"<->",null,null,"<->",null,null,"<->",null,null,"<->",null,"10.20",null,null,0,"<->",0]
["2022.07.15",null,"II",3,"ARBOCIUS-SKILINSKAS","vs","MACAULAY-LABRADOR",0,"<->",0,"00:00:00",null,"<->",null,null,"<->",null,null,"<->",null,null,"<->",null,null,"<->",null,"10.40",null,null,0,"<->",0]
["2022.07.15",null,"II",3,"BALEVICIUS-BARAUSKAS","vs","VARENOV-STRALINSKAS",0,"<->",0,"00:00:00",null,"<->",null,null,"<->",null,null,"<->",null,null,"<->",null,null,"<->",null,"11.00",null,null,0,"<->",0]
["2022.07.15",null,"III",3,"VARENOV-STRALINSKAS","vs","GRABAUSKAS-VARENOV",0,"<->",0,"00:00:00",null,"<->",null,null,"<->",null,null,"<->",null,null,"<->",null,null,"<->",null,"11.20",null,null,0,"<->",0]
["2022.07.15",null,"III",3,"MACAULAY-LABRADOR","vs","BALEVICIUS-BARAUSKAS",0,"<->",0,"00:00:00",null,"<->",null,null,"<->",null,null,"<->",null,null,"<->",null,null,"<->",null,"11.40",null,null,0,"<->",0]
["2022.07.15",null,"IV",3,"BALEVICIUS-BARAUSKAS","vs","ARBOCIUS-SKILINSKAS",0,"<->",0,"00:00:00",null,"<->",null,null,"<->",null,null,"<->",null,null,"<->",null,null,"<->",null,"12.00",null,null,0,"<->",0]
["2022.07.15",null,"IV",3,"GRABAUSKAS-VARENOV","vs","MACAULAY-LABRADOR",0,"<->",0,"00:00:00",null,"<->",null,null,"<->",null,null,"<->",null,null,"<->",null,null,"<->",null,"12.20",null,null,0,"<->",0]
["2022.07.15",null,"V",3,"MACAULAY-LABRADOR","vs","VARENOV-STRALINSKAS",0,"<->",0,"00:00:00",null,"<->",null,null,"<->",null,null,"<->",null,null,"<->",null,null,"<->",null,"12.40",null,null,0,"<->",0]
["2022.07.15",null,"V",3,"ARBOCIUS-SKILINSKAS","vs","GRABAUSKAS-VARENOV",0,"<->",0,"00:00:00",null,"<->",null,null,"<->",null,null,"<->",null,null,"<->",null,null,"<->",null,"13.00",null,null,0,"<->",0]
["2 Pogrupis"]
["2022.07.15",null,"I",4,"LIPINSKAS-BAKANAUSKAS","vs","LYNIKAS-PAULIUKONIS",{"$f":"IF(L18=N18,0,SUM(IF(L18>N18,1,0),IF(O18>Q18,1,0),IF(R18<=T18,0,1),IF(U18<=W18,0,1),IF(X18<=Z18,0,1),))","v":0},"<->",{"$f":"IF(L18=N18,0,SUM(IF(L18<N18,1,0),IF(O18<Q18,1,0),IF(R18>=T18,0,1),IF(U18>=W18,0,1),IF(X18>=Z18,0,1),))","v":0},{"$f":"IF(AB18=0,0,SUM(AB18-AA18))","v":"00:00:00"},null,"<->",null,null,"<->",null,null,"<->",null,null,"<->",null,null,"<->",null,"10.00",null,null,{"$f":"L18+O18+R18+U18+X18","v":0},"<->",{"$f":"N18+Q18+T18+W18+Z18","v":0}]
["2022.07.15",null,"I",4,"BENIULIS-DRANEVICIUS","vs","PALELIUNAS-POVILAITIS",0,"<->",0,"00:00:00",null,"<->",null,null,"<->",null,null,"<->",null,null,"<->",null,null,"<->",null,"10.20",null,null,0,"<->",0]
["2022.07.15",null,"II",4,"PALELIUNAS-POVILAITIS","vs","FINI-ZORZETTO",0,"<->",0,"00:00:00",null,"<->",null,null,"<->",null,null,"<->",null,null,"<->",null,null,"<->",null,"10.40",null,null,0,"<->",0]
["2022.07.15",null,"II",4,"LYNIKAS-PAULIUKONIS","vs","BENIULIS-DRANEVICIUS",0,"<->",0,"00:00:00",null,"<->",null,null,"<->",null,null,"<->",null,null,"<->",null,null,"<->",null,"11.00",null,null,0,"<->",0]
["2022.07.15",null,"III",4,"BENIULIS-DRANEVICIUS","vs","LIPINSKAS-BAKANAUSKAS",0,"<->",0,"00:00:00",null,"<->",null,null,"<->",null,null,"<->",null,null,"<->",null,null,"<->",null,"11.20",null,null,0,"<->",0]
["2022.07.15",null,"III",4,"FINI-ZORZETTO","vs","LYNIKAS-PAULIUKONIS",0,"<->",0,"00:00:00",null,"<->",null,null,"<->",null,null,"<->",null,null,"<->",null,null,"<->",null,"11.40",null,null,0,"<->",0]
["2022.07.15",null,"IV",4,"LYNIKAS-PAULIUKONIS","vs","PALELIUNAS-POVILAITIS",0,"<->",0,"00:00:00",null,"<->",null,null,"<->",null,null,"<->",null,null,"<->",null,null,"<->",null,"12.00",null,null,0,"<->",0]
["2022.07.15",null,"IV",4,"LIPINSKAS-BAKANAUSKAS","vs","FINI-ZORZETTO",0,"<->",0,"00:00:00",null,"<->",null,null,"<->",null,null,"<->",null,null,"<->",null,null,"<->",null,"12.20",null,null,0,"<->",0]
["2022.07.15",null,"V",4,"FINI-ZORZETTO","vs","BENIULIS-DRANEVICIUS",0,"<->",0,"00:00:00",null,"<->",null,null,"<->",null,null,"<->",null,null,"<->",null,null,"<->",null,"12.40",null,null,0,"<->",0]
["2022.07.15",null,"V",4,"PALELIUNAS-POVILAITIS","vs","LIPINSKAS-BAKANAUSKAS",0,"<->",0,"00:00:00",null,"<->",null,null,"<->",null,null,"<->",null,null,"<->",null,null,"<->",null,"13.00",null,null,0,"<->",0]
["3 Pogrupis"]
["2022.07.15",null,"I",3,"SONGINAS-JUSKAUSKAS","vs","SAVICKAS-SAVICKAS",{"$f":"IF(L29=N29,0,SUM(IF(L29>N29,1,0),IF(O29>Q29,1,0),IF(R29<=T29,0,1),IF(U29<=W29,0,1),IF(X29<=Z29,0,1),))","v":0},"<->",{"$f":"IF(L29=N29,0,SUM(IF(L29<N29,1,0),IF(O29<Q29,1,0),IF(R29>=T29,0,1),IF(U29>=W29,0,1),IF(X29>=Z29,0,1),))","v":0},{"$f":"IF(AB29=0,0,SUM(AB29-AA29))","v":"00:00:00"},null,"<->",null,null,"<->",null,null,"<->",null,null,"<->",null,null,"<->",null,"13.20",null,null,{"$f":"L29+O29+R29+U29+X29","v":0},"<->",{"$f":"N29+Q29+T29+W29+Z29","v":0}]
["2022.07.15",null,"I",3,"SAUKEVICIUS-MOCKUS","vs","LOSYS-LOSYS",0,"<->",0,"00:00:00",null,"<->",null,null,"<->",null,null,"<->",null,null,"<->",null,null,"<->",null,"13.40",null,null,0,"<->",0]
["2022.07.15",null,"II",3,"SAUKEVICIUS-MOCKUS","vs","SONGINAS-JUSKAUSKAS",0,"<->",0,"00:00:00",null,"<->",null,null,"<->",null,null,"<->",null,null,"<->",null,null,"<->",null,"14.00",null,null,0,"<->",0]
["2022.07.15",null,"II",3,"LOSYS-LOSYS","vs","SAVICKAS-SAVICKAS",0,"<->",0,"00:00:00",null,"<->",null,null,"<->",null,null,"<->",null,null,"<->",null,null,"<->",null,"14.20",null,null,0,"<->",0]
["2022.07.15",null,"III",3,"SONGINAS-JUSKAUSKAS","vs","LOSYS-LOSYS",0,"<->",0,"00:00:00",null,"<->",null,null,"<->",null,null,"<->",null,null,"<->",null,null,"<->",null,"14.40",null,null,0,"<->",0]
["2022.07.15",null,"III",3,"SAVICKAS-SAVICKAS","vs","SAUKEVICIUS-MOCKUS",0,"<->",0,"00:00:00",null,"<->",null,null,"<->",null,null,"<->",null,null,"<->",null,null,"<->",null,"15.00",null,null,0,"<->",0]
["4 Pogrupis"]
["2022.07.15",null,"I",4,"KRIUKONIS-LIPINSKAS","vs","GRABYS-NIKIFOROVAS",{"$f":"IF(L36=N36,0,SUM(IF(L36>N36,1,0),IF(O36>Q36,1,0),IF(R36<=T36,0,1),IF(U36<=W36,0,1),IF(X36<=Z36,0,1),))","v":0},"<->",{"$f":"IF(L36=N36,0,SUM(IF(L36<N36,1,0),IF(O36<Q36,1,0),IF(R36>=T36,0,1),IF(U36>=W36,0,1),IF(X36>=Z36,0,1),))","v":0},{"$f":"IF(AB36=0,0,SUM(AB36-AA36))","v":"00:00:00"},null,"<->",null,null,"<->",null,null,"<->",null,null,"<->",null,null,"<->",null,"13.20",null,null,{"$f":"L36+O36+R36+U36+X36","v":0},"<->",{"$f":"N36+Q36+T36+W36+Z36","v":0}]
["2022.07.15",null,"I",4,"SNIAUKA-VAITKUS","vs","VILCINSKAS-VILUTIS",0,"<->",0,"00:00:00",null,"<->",null,null,"<->",null,null,"<->",null,null,"<->",null,null,"<->",null,"13.40",null,null,0,"<->",0]
["2022.07.15",null,"II",4,"SNIAUKA-VAITKUS","vs","KRIUKONIS-LIPINSKAS",0,"<->",0,"00:00:00",null,"<->",null,null,"<->",null,null,"<->",null,null,"<->",null,null,"<->",null,"14.00",null,null,0,"<->",0]
["2022.07.15",null,"II",4,"VILCINSKAS-VILUTIS","vs","GRABYS-NIKIFOROVAS",0,"<->",0,"00:00:00",null,"<->",null,null,"<->",null,null,"<->",null,null,"<->",null,null,"<->",null,"14.20",null,null,0,"<->",0]
["2022.07.15",null,"III",4,"KRIUKONIS-LIPINSKAS","vs","VILCINSKAS-VILUTIS",0,"<->",0,"00:00:00",null,"<->",null,null,"<->",null,null,"<->",null,null,"<->",null,null,"<->",null,"14.40",null,null,0,"<->",0]
["2022.07.15",null,"III",4,"GRABYS-NIKIFOROVAS","vs","SNIAUKA-VAITKUS",0,"<->",0,"00:00:00",null,"<->",null,null,"<->",null,null,"<->",null,null,"<->",null,null,"<->",null,"15.00",null,null,0,"<->",0]
["5 Pogrupis"]
["2022.07.15",null,"I",2,"JASKAUSKAS-KAVOLYNAS","vs","NIKITCENKO-HASANI",{"$f":"IF(L43=N43,0,SUM(IF(L43>N43,1,0),IF(O43>Q43,1,0),IF(R43<=T43,0,1),IF(U43<=W43,0,1),IF(X43<=Z43,0,1),))","v":0},"<->",{"$f":"IF(L43=N43,0,SUM(IF(L43<N43,1,0),IF(O43<Q43,1,0),IF(R43>=T43,0,1),IF(U43>=W43,0,1),IF(X43>=Z43,0,1),))","v":0},{"$f":"IF(AB43=0,0,SUM(AB43-AA43))","v":"00:00:00"},null,"<->",null,null,"<->",null,null,"<->",null,null,"<->",null,null,"<->",null,"14.40",null,null,{"$f":"L43+O43+R43+U43+X43","v":0},"<->",{"$f":"N43+Q43+T43+W43+Z43","v":0}]
["2022.07.15",null,"I",2,"PREKEVICIUS-ANTANAVICIUS","vs","AUGUNAS-CYVAS",0,"<->",0,"00:00:00",null,"<->",null,null,"<->",null,null,"<->",null,null,"<->",null,null,"<->",null,"15.00",null,null,0,"<->",0]
["2022.07.15",null,"II",2,"PREKEVICIUS-ANTANAVICIUS","vs","JASKAUSKAS-KAVOLYNAS",0,"<->",0,"00:00:00",null,"<->",null,null,"<->",null,null,"<->",null,null,"<->",null,null,"<->",null,"15.20",null,null,0,"<->",0]
["2022.07.15",null,"II",2,"AUGUNAS-CYVAS","vs","NIKITCENKO-HASANI",0,"<->",0,"00:00:00",null,"<->",null,null,"<->",null,null,"<->",null,null,"<->",null,null,"<->",null,"15.40",null,null,0,"<->",0]
["2022.07.15",null,"III",2,"JASKAUSKAS-KAVOLYNAS","vs","AUGUNAS-CYVAS",0,"<->",0,"00:00:00",null,"<->",null,null,"<->",null,null,"<->",null,null,"<->",null,null,"<->",null,"16.00",null,null,0,"<->",0]
["2022.07.15",null,"III",2,"NIKITCENKO-HASANI","vs","PREKEVICIUS-ANTANAVICIUS",0,"<->",0,"00:00:00",null,"<->",null,null,"<->",null,null,"<->",null,null,"<->",null,null,"<->",null,"16.20",null,null,0,"<->",0]
[]
["2022.07.15",null,"I",1,"MATACIUNAS-GRAINYS","vs","SEMIONOVAS-SNIPAS",{"$f":"IF(L50=N50,0,SUM(IF(L50>N50,1,0),IF(O50>Q50,1,0),IF(R50<=T50,0,1),IF(U50<=W50,0,1),IF(X50<=Z50,0,1),))","v":0},"<->",{"$f":"IF(L50=N50,0,SUM(IF(L50<N50,1,0),IF(O50<Q50,1,0),IF(R50>=T50,0,1),IF(U50>=W50,0,1),IF(X50>=Z50,0,1),))","v":0},{"$f":"IF(AB50=0,0,SUM(AB50-AA50))","v":"00:00:00"},null,"<->",null,null,"<->",null,null,"<->",null,null,"<->",null,null,"<->",null,"15.20",null,null,{"$f":"L50+O50+R50+U50+X50","v":0},"<->",{"$f":"N50+Q50+T50+W50+Z50","v":0}]
["2022.07.15",null,"I",1,"BARADULINAS-KAZLAUSKAS","vs","TUMOSA-STANIULIS",0,"<->",0,"00:00:00",null,"<->",null,null,"<->",null,null,"<->",null,null,"<->",null,null,"<->",null,"15.40",null,null,0,"<->",0]
["2022.07.15",null,"II",1,"BARADULINAS-KAZLAUSKAS","vs","MATACIUNAS-GRAINYS",0,"<->",0,"00:00:00",null,"<->",null,null,"<->",null,null,"<->",null,null,"<->",null,null,"<->",null,"16.00",null,null,0,"<->",0]
["2022.07.15",null,"II",1,"TUMOSA-STANIULIS","vs","SEMIONOVAS-SNIPAS",0,"<->",0,"00:00:00",null,"<->",null,null,"<->",null,null,"<->",null,null,"<->",null,null,"<->",null,"16.20",null,null,0,"<->",0]
["2022.07.15",null,"III",1,"MATACIUNAS-GRAINYS","vs","TUMOSA-STANIULIS",0,"<->",0,"00:00:00",null,"<->",null,null,"<->",null,null,"<->",null,null,"<->",null,null,"<->",null,"16.40",null,null,0,"<->",0]
["2022.07.15",null,"III",1,"SEMIONOVAS-SNIPAS","vs","BARADULINAS-KAZLAUSKAS",0,"<->",0,"00:00:00",null,"<->",null,null,"<->",null,null,"<->",null,null,"<->",null,null,"<->",null,"17.00",null,null,0,"<->",0]

{"sheet":"Resultstable","index":3,"n_rows":84,"n_cols":23,"rows_kept":84,"cut":false,"hidden":false,"merged":[[7,1,8,1],[9,1,10,1],[4,6,4,8],[4,3,4,5],[5,0,6,0],[7,0,8,0],[32,3,32,5],[32,6,32,8],[32,9,32,11],[32,12,32,14],[32,15,32,17],[46,15,46,17],[33,0,34,0],[35,0,36,0],[33,1,34,1],[35,1,36,1],[37,0,38,0],[39,0,40,0],[41,0,42,0],[41,1,42,1],[53,0,54,0],[49,1,50,1],[51,1,52,1],[53,1,54,1],[46,12,46,14],[47,0,48,0],[47,1,48,1],[46,3,46,5],[46,6,46,8],[46,9,46,11],[65,0,66,0],[67,0,68,0],[69,0,70,0],[61,1,62,1],[63,1,64,1],[65,1,66,1],[67,1,68,1],[69,1,70,1],[61,0,62,0],[63,0,64,0],[0,0,0,20],[1,0,1,20],[4,12,4,14],[4,15,4,17],[18,3,18,5],[18,6,18,8],[18,9,18,11],[18,12,18,14],[18,15,18,17],[4,9,4,11],[11,0,12,0],[13,0,14,0],[11,1,12,1],[13,1,14,1],[9,0,10,0],[5,1,6,1],[19,0,20,0],[19,1,20,1],[21,1,22,1],[49,0,50,0],[51,0,52,0],[37,1,38,1],[39,1,40,1],[21,0,22,0],[23,0,24,0],[25,0,26,0],[27,0,28,0],[23,1,24,1],[25,1,26,1],[27,1,28,1],[55,0,56,0],[55,1,56,1],[60,3,60,5],[60,6,60,8],[60,9,60,11],[60,12,60,14],[60,15,60,17],[74,3,74,5],[74,6,74,8],[74,9,74,11],[74,12,74,14],[74,15,74,17],[75,0,76,0],[77,0,78,0],[79,0,80,0],[81,0,82,0],[83,0,84,0],[75,1,76,1],[77,1,78,1],[79,1,80,1],[81,1,82,1],[83,1,84,1]]}
[{"$f":"Teams!F1","v":"LIETUVIŲ PASAULIO ŽAIDYNĖS VYRAI"}]
[{"$f":"CONCATENATE(Teams!F2,\" \", Teams!F3)","v":"DRUSKININKAI 2022.07.15-17"}]
[]
["1 Pogrupis"]
[null,"Mst.","Komanda",1,null,null,2,null,null,3,null,null,4,null,null,5,null,null,"S","T","T.S","V","Taskai, ivertinus 2 kriterijus"]
[1,null,"MACAULAY-LABRADOR",null,null,null,{"$f":"Timetable!J9","v":0},null,{"$f":"Timetable!H9","v":0},{"$f":"Timetable!H12","v":0},null,{"$f":"Timetable!J12","v":0},{"$f":"Timetable!J14","v":0},null,{"$f":"Timetable!H14","v":0},{"$f":"Timetable!H15","v":0},null,{"$f":"Timetable!J15","v":0},{"$f":"IF($F6+$I6+$L6+$O6+$R6=0,$D6+$G6+$J6+$M6+$P6+1,($D6+$G6+$J6+$M6+$P6)/($F6+$I6+$L6+$O6+$R6))","v":1},{"$f":"$E7+$H7+$K7+$N7+$Q7","v":0},{"$f":"IF($F7+$I7+$L7+$O7+$R7=0,$D7+$G7+$J7+$M7+$P7+0,($D7+$G7+$J7+$M7+$P7)/($F7+$I7+$L7+$O7+$R7))","v":0},{"$f":"RANK($W$6,$W$6:$W$14)","v":1},{"$f":"T6+(S6/100)+(U6/1000)","v":0.01}]
[null,null,null,null,null,null,{"$f":"Timetable!AF9","v":0},{"$f":"IF(AND(G6=0,I6=0),0,IF(G6>I6,2,1))","v":0},{"$f":"Timetable!AD9","v":0},{"$f":"Timetable!AD12","v":0},{"$f":"IF(AND(J6=0,L6=0),0,IF(J6>L6,2,1))","v":0},{"$f":"Timetable!AF12","v":0},{"$f":"Timetable!AF14","v":0},{"$f":"IF(AND(M6=0,O6=0),0,IF(M6>O6,2,1))","v":0},{"$f":"Timetable!AD14","v":0},{"$f":"Timetable!AD15","v":0},{"$f":"IF(AND(P6=0,R6=0),0,IF(P6>R6,2,1))","v":0},{"$f":"Timetable!AF15","v":0}]
[2,null,"ARBOCIUS-SKILINSKAS",{"$f":"Timetable!H9","v":0},null,{"$f":"Timetable!J9","v":0},null,null,null,{"$f":"Timetable!J13","v":0},null,{"$f":"Timetable!H13","v":0},{"$f":"Timetable!H16","v":0},null,{"$f":"Timetable!J16","v":0},{"$f":"Timetable!J8","v":0},null,{"$f":"Timetable!H8","v":0},{"$f":"IF($F8+$I8+$L8+$O8+$R8=0,$D8+$G8+$J8+$M8+$P8+1,($D8+$G8+$J8+$M8+$P8)/($F8+$I8+$L8+$O8+$R8))","v":1},{"$f":"$E9+$H9+$K9+$N9+$Q9","v":0},{"$f":"IF($F9+$I9+$L9+$O9+$R9=0,$D9+$G9+$J9+$M9+$P9+0,($D9+$G9+$J9+$M9+$P9)/($F9+$I9+$L9+$O9+$R9))","v":0},{"$f":"RANK($W$8,$W$6:$W$14)","v":1},{"$f":"T8+(S8/100)+(U8/1000)","v":0.01}]
[null,null,null,{"$f":"Timetable!AD9","v":0},{"$f":"IF(AND(D8=0,F8=0),0,IF(D8>F8,2,1))","v":0},{"$f":"Timetable!AF9","v":0},null,null,null,{"$f":"Timetable!AF13","v":0},{"$f":"IF(AND(J8=0,L8=0),0,IF(J8>L8,2,1))","v":0},{"$f":"Timetable!AD13","v":0},{"$f":"Timetable!AD16","v":0},{"$f":"IF(AND(M8=0,O8=0),0,IF(M8>O8,2,1))","v":0},{"$f":"Timetable!AF16","v":0},{"$f":"Timetable!AF8","v":0},{"$f":"IF(AND(P8=0,R8=0),0,IF(P8>R8,2,1))","v":0},{"$f":"Timetable!AD8","v":0}]
[3,null,"BALEVICIUS-BARAUSKAS",{"$f":"Timetable!J12","v":0},null,{"$f":"Timetable!H12","v":0},{"$f":"Timetable!H13","v":0},null,{"$f":"Timetable!J13","v":0},null,null,null,{"$f":"Timetable!J7","v":0},null,{"$f":"Timetable!H7","v":0},{"$f":"Timetable!H10","v":0},null,{"$f":"Timetable!J10","v":0},{"$f":"IF($F10+$I10+$L10+$O10+$R10=0,$D10+$G10+$J10+$M10+$P10+1,($D10+$G10+$J10+$M10+$P10)/($F10+$I10+$L10+$O10+$R10))","v":1},{"$f":"$E11+$H11+$K11+$N11+$Q11","v":0},{"$f":"IF($F11+$I11+$L11+$O11+$R11=0,$D11+$G11+$J11+$M11+$P11+0,($D11+$G11+$J11+$M11+$P11)/($F11+$I11+$L11+$O11+$R11))","v":0},{"$f":"RANK($W$10,$W$6:$W$14)","v":1},{"$f":"T10+(S10/100)+(U10/1000)","v":0.01}]
[null,null,null,{"$f":"Timetable!AF12","v":0},{"$f":"IF(AND(D10=0,F10=0),0,IF(D10>F10,2,1))","v":0},{"$f":"Timetable!AD12","v":0},{"$f":"Timetable!AD13","v":0},{"$f":"IF(AND(G10=0,I10=0),0,IF(G10>I10,2,1))","v":0},{"$f":"Timetable!AF13","v":0},null,null,null,{"$f":"Timetable!AF7","v":0},{"$f":"IF(AND(M10=0,O10=0),0,IF(M10>O10,2,1))","v":0},{"$f":"Timetable!AD7","v":0},{"$f":"Timetable!AD10","v":0},{"$f":"IF(AND(P10=0,R10=0),0,IF(P10>R10,2,1))","v":0},{"$f":"Timetable!AF10","v":0}]
[4,null,"GRABAUSKAS-VARENOV",{"$f":"Timetable!H14","v":0},null,{"$f":"Timetable!J14","v":0},{"$f":"Timetable!J16","v":0},null,{"$f":"Timetable!H16","v":0},{"$f":"Timetable!H7","v":0},null,{"$f":"Timetable!J7","v":0},null,null,null,{"$f":"Timetable!J11","v":0},null,{"$f":"Timetable!H11","v":0},{"$f":"IF($F12+$I12+$L12+$O12+$R12=0,$D12+$G12+$J12+$M12+$P12+1,($D12+$G12+$J12+$M12+$P12)/($F12+$I12+$L12+$O12+$R12))","v":1},{"$f":"$E13+$H13+$K13+$N13+$Q13","v":0},{"$f":"IF($F13+$I13+$L13+$O13+$R13=0,$D13+$G13+$J13+$M13+$P13+0,($D13+$G13+$J13+$M13+$P13)/($F13+$I13+$L13+$O13+$R13))","v":0},{"$f":"RANK($W$12,$W$6:$W$14)","v":1},{"$f":"T12+(S12/100)+(U12/1000)","v":0.01}]
[null,null,null,{"$f":"Timetable!AD14","v":0},{"$f":"IF(AND(D12=0,F12=0),0,IF(D12>F12,2,1))","v":0},{"$f":"Timetable!AF14","v":0},{"$f":"Timetable!AF16","v":0},{"$f":"IF(AND(G12=0,I12=0),0,IF(G12>I12,2,1))","v":0},{"$f":"Timetable!AD16","v":0},{"$f":"Timetable!AD7","v":0},{"$f":"IF(AND(J12=0,L12=0),0,IF(J12>L12,2,1))","v":0},{"$f":"Timetable!AF7","v":0},null,null,null,{"$f":"Timetable!AF11","v":0},{"$f":"IF(AND(P12=0,R12=0),0,IF(P12>R12,2,1))","v":0},{"$f":"Timetable!AD11","v":0}]
[5,null,"VARENOV-STRALINSKAS",{"$f":"Timetable!J15","v":0},null,{"$f":"Timetable!H15","v":0},{"$f":"Timetable!H8","v":0},null,{"$f":"Timetable!J8","v":0},{"$f":"Timetable!J10","v":0},null,{"$f":"Timetable!H10","v":0},{"$f":"Timetable!H11","v":0},null,{"$f":"Timetable!J11","v":0},null,null,null,{"$f":"IF($F14+$I14+$L14+$O14+$R14=0,$D14+$G14+$J14+$M14+$P14+1,($D14+$G14+$J14+$M14+$P14)/($F14+$I14+$L14+$O14+$R14))","v":1},{"$f":"$E15+$H15+$K15+$N15+$Q15","v":0},{"$f":"IF($F15+$I15+$L15+$O15+$R15=0,$D15+$G15+$J15+$M15+$P15+0,($D15+$G15+$J15+$M15+$P15)/($F15+$I15+$L15+$O15+$R15))","v":0},{"$f":"RANK($W$14,$W$6:$W$14)","v":1},{"$f":"T14+(S14/100)+(U14/1000)","v":0.01}]
[null,null,null,{"$f":"Timetable!AF15","v":0},{"$f":"IF(AND(D14=0,F14=0),0,IF(D14>F14,2,1))","v":0},{"$f":"Timetable!AD15","v":0},{"$f":"Timetable!AD8","v":0},{"$f":"IF(AND(G14=0,I14=0),0,IF(G14>I14,2,1))","v":0},{"$f":"Timetable!AF8","v":0},{"$f":"Timetable!AF10","v":0},{"$f":"IF(AND(J14=0,L14=0),0,IF(J14>L14,2,1))","v":0},{"$f":"Timetable!AD10","v":0},{"$f":"Timetable!AD11","v":0},{"$f":"IF(AND(M14=0,O14=0),0,IF(M14>O14,2,1))","v":0},{"$f":"Timetable!AF11","v":0}]
[]
[]
["2 Pogrupis"]
[null,"Mst.","Komanda",1,null,null,2,null,null,3,null,null,4,null,null,5,null,null,"S","T","T.S","V","Taskai, ivertinus 2 kriterijus"]
[1,null,"FINI-ZORZETTO",null,null,null,{"$f":"Timetable!J20","v":0},null,{"$f":"Timetable!H20","v":0},{"$f":"Timetable!H23","v":0},null,{"$f":"Timetable!J23","v":0},{"$f":"Timetable!J25","v":0},null,{"$f":"Timetable!H25","v":0},{"$f":"Timetable!H26","v":0},null,{"$f":"Timetable!J26","v":0},{"$f":"IF($F20+$I20+$L20+$O20+$R20=0,$D20+$G20+$J20+$M20+$P20+1,($D20+$G20+$J20+$M20+$P20)/($F20+$I20+$L20+$O20+$R20))","v":1},{"$f":"$E21+$H21+$K21+$N21+$Q21","v":0},{"$f":"IF($F21+$I21+$L21+$O21+$R21=0,$D21+$G21+$J21+$M21+$P21+0,($D21+$G21+$J21+$M21+$P21)/($F21+$I21+$L21+$O21+$R21))","v":0},{"$f":"RANK($W$20,$W$20:$W$28)","v":1},{"$f":"T20+(S20/100)+(U20/1000)","v":0.01}]
[null,null,null,null,null,null,{"$f":"Timetable!AF20","v":0},{"$f":"IF(AND(G20=0,I20=0),0,IF(G20>I20,2,1))","v":0},{"$f":"Timetable!AD20","v":0},{"$f":"Timetable!AD23","v":0},{"$f":"IF(AND(J20=0,L20=0),0,IF(J20>L20,2,1))","v":0},{"$f":"Timetable!AF23","v":0},{"$f":"Timetable!AF25","v":0},{"$f":"IF(AND(M20=0,O20=0),0,IF(M20>O20,2,1))","v":0},{"$f":"Timetable!AD25","v":0},{"$f":"Timetable!AD26","v":0},{"$f":"IF(AND(P20=0,R20=0),0,IF(P20>R20,2,1))","v":0},{"$f":"Timetable!AF26","v":0}]
[2,null,"PALELIUNAS-POVILAITIS",{"$f":"Timetable!H20","v":0},null,{"$f":"Timetable!J20","v":0},null,null,null,{"$f":"Timetable!J24","v":0},null,{"$f":"Timetable!H24","v":0},{"$f":"Timetable!H27","v":0},null,{"$f":"Timetable!J27","v":0},{"$f":"Timetable!J19","v":0},null,{"$f":"Timetable!H19","v":0},{"$f":"IF($F22+$I22+$L22+$O22+$R22=0,$D22+$G22+$J22+$M22+$P22+1,($D22+$G22+$J22+$M22+$P22)/($F22+$I22+$L22+$O22+$R22))","v":1},{"$f":"$E23+$H23+$K23+$N23+$Q23","v":0},{"$f":"IF($F23+$I23+$L23+$O23+$R23=0,$D23+$G23+$J23+$M23+$P23+0,($D23+$G23+$J23+$M23+$P23)/($F23+$I23+$L23+$O23+$R23))","v":0},{"$f":"RANK($W$22,$W$20:$W$28)","v":1},{"$f":"T22+(S22/100)+(U22/1000)","v":0.01}]
[null,null,null,{"$f":"Timetable!AD20","v":0},{"$f":"IF(AND(D22=0,F22=0),0,IF(D22>F22,2,1))","v":0},{"$f":"Timetable!AF20","v":0},null,null,null,{"$f":"Timetable!AF24","v":0},{"$f":"IF(AND(J22=0,L22=0),0,IF(J22>L22,2,1))","v":0},{"$f":"Timetable!AD24","v":0},{"$f":"Timetable!AD27","v":0},{"$f":"IF(AND(M22=0,O22=0),0,IF(M22>O22,2,1))","v":0},{"$f":"Timetable!AF27","v":0},{"$f":"Timetable!AF19","v":0},{"$f":"IF(AND(P22=0,R22=0),0,IF(P22>R22,2,1))","v":0},{"$f":"Timetable!AD19","v":0}]
[3,null,"LYNIKAS-PAULIUKONIS",{"$f":"Timetable!J23","v":0},null,{"$f":"Timetable!H23","v":0},{"$f":"Timetable!H24","v":0},null,{"$f":"Timetable!J24","v":0},null,null,null,{"$f":"Timetable!J18","v":0},null,{"$f":"Timetable!H18","v":0},{"$f":"Timetable!H21","v":0},null,{"$f":"Timetable!J21","v":0},{"$f":"IF($F24+$I24+$L24+$O24+$R24=0,$D24+$G24+$J24+$M24+$P24+1,($D24+$G24+$J24+$M24+$P24)/($F24+$I24+$L24+$O24+$R24))","v":1},{"$f":"$E25+$H25+$K25+$N25+$Q25","v":0},{"$f":"IF($F25+$I25+$L25+$O25+$R25=0,$D25+$G25+$J25+$M25+$P25+0,($D25+$G25+$J25+$M25+$P25)/($F25+$I25+$L25+$O25+$R25))","v":0},{"$f":"RANK($W$24,$W$20:$W$28)","v":1},{"$f":"T24+(S24/100)+(U24/1000)","v":0.01}]
[null,null,null,{"$f":"Timetable!AF23","v":0},{"$f":"IF(AND(D24=0,F24=0),0,IF(D24>F24,2,1))","v":0},{"$f":"Timetable!AD23","v":0},{"$f":"Timetable!AD24","v":0},{"$f":"IF(AND(G24=0,I24=0),0,IF(G24>I24,2,1))","v":0},{"$f":"Timetable!AF24","v":0},null,null,null,{"$f":"Timetable!AF18","v":0},{"$f":"IF(AND(M24=0,O24=0),0,IF(M24>O24,2,1))","v":0},{"$f":"Timetable!AD18","v":0},{"$f":"Timetable!AD21","v":0},{"$f":"IF(AND(P24=0,R24=0),0,IF(P24>R24,2,1))","v":0},{"$f":"Timetable!AF21","v":0}]
[4,null,"LIPINSKAS-BAKANAUSKAS",{"$f":"Timetable!H25","v":0},null,{"$f":"Timetable!J25","v":0},{"$f":"Timetable!J27","v":0},null,{"$f":"Timetable!H27","v":0},{"$f":"Timetable!H18","v":0},null,{"$f":"Timetable!J18","v":0},null,null,null,{"$f":"Timetable!J22","v":0},null,{"$f":"Timetable!H22","v":0},{"$f":"IF($F26+$I26+$L26+$O26+$R26=0,$D26+$G26+$J26+$M26+$P26+1,($D26+$G26+$J26+$M26+$P26)/($F26+$I26+$L26+$O26+$R26))","v":1},{"$f":"$E27+$H27+$K27+$N27+$Q27","v":0},{"$f":"IF($F27+$I27+$L27+$O27+$R27=0,$D27+$G27+$J27+$M27+$P27+0,($D27+$G27+$J27+$M27+$P27)/($F27+$I27+$L27+$O27+$R27))","v":0},{"$f":"RANK($W$26,$W$20:$W$28)","v":1},{"$f":"T26+(S26/100)+(U26/1000)","v":0.01}]
[null,null,null,{"$f":"Timetable!AD25","v":0},{"$f":"IF(AND(D26=0,F26=0),0,IF(D26>F26,2,1))","v":0},{"$f":"Timetable!AF25","v":0},{"$f":"Timetable!AF27","v":0},{"$f":"IF(AND(G26=0,I26=0),0,IF(G26>I26,2,1))","v":0},{"$f":"Timetable!AD27","v":0},{"$f":"Timetable!AD18","v":0},{"$f":"IF(AND(J26=0,L26=0),0,IF(J26>L26,2,1))","v":0},{"$f":"Timetable!AF18","v":0},null,null,null,{"$f":"Timetable!AF22","v":0},{"$f":"IF(AND(P26=0,R26=0),0,IF(P26>R26,2,1))","v":0},{"$f":"Timetable!AD22","v":0}]
[5,null,"BENIULIS-DRANEVICIUS",{"$f":"Timetable!J26","v":0},null,{"$f":"Timetable!H26","v":0},{"$f":"Timetable!H19","v":0},null,{"$f":"Timetable!J19","v":0},{"$f":"Timetable!J21","v":0},null,{"$f":"Timetable!H21","v":0},{"$f":"Timetable!H22","v":0},null,{"$f":"Timetable!J22","v":0},null,null,null,{"$f":"IF($F28+$I28+$L28+$O28+$R28=0,$D28+$G28+$J28+$M28+$P28+1,($D28+$G28+$J28+$M28+$P28)/($F28+$I28+$L28+$O28+$R28))","v":1},{"$f":"$E29+$H29+$K29+$N29+$Q29","v":0},{"$f":"IF($F29+$I29+$L29+$O29+$R29=0,$D29+$G29+$J29+$M29+$P29+0,($D29+$G29+$J29+$M29+$P29)/($F29+$I29+$L29+$O29+$R29))","v":0},{"$f":"RANK($W$28,$W$20:$W$28)","v":1},{"$f":"T28+(S28/100)+(U28/1000)","v":0.01}]
[null,null,null,{"$f":"Timetable!AF26","v":0},{"$f":"IF(AND(D28=0,F28=0),0,IF(D28>F28,2,1))","v":0},{"$f":"Timetable!AD26","v":0},{"$f":"Timetable!AD19","v":0},{"$f":"IF(AND(G28=0,I28=0),0,IF(G28>I28,2,1))","v":0},{"$f":"Timetable!AF19","v":0},{"$f":"Timetable!AF21","v":0},{"$f":"IF(AND(J28=0,L28=0),0,IF(J28>L28,2,1))","v":0},{"$f":"Timetable!AD21","v":0},{"$f":"Timetable!AD22","v":0},{"$f":"IF(AND(M28=0,O28=0),0,IF(M28>O28,2,1))","v":0},{"$f":"Timetable!AF22","v":0}]
[]
[]
["3 Pogrupis"]
[null,"Mst.","Komanda",1,null,null,2,null,null,3,null,null,4,null,null,5,null,null,"S","T","T.S","V","Taskai, ivertinus 2 kriterijus"]
[1,null,"SAVICKAS-SAVICKAS",null,null,null,{"$f":"Timetable!J32","v":0},null,{"$f":"Timetable!H32","v":0},{"$f":"Timetable!H34","v":0},null,{"$f":"Timetable!J34","v":0},{"$f":"Timetable!J29","v":0},null,{"$f":"Timetable!H29","v":0},null,null,null,{"$f":"IF($F34+$I34+$L34+$O34+$R34=0,$D34+$G34+$J34+$M34+$P34+1,($D34+$G34+$J34+$M34+$P34)/($F34+$I34+$L34+$O34+$R34))","v":1},{"$f":"$E35+$H35+$K35+$N35+$Q35","v":0},{"$f":"IF($F35+$I35+$L35+$O35+$R35=0,$D35+$G35+$J35+$M35+$P35+0,($D35+$G35+$J35+$M35+$P35)/($F35+$I35+$L35+$O35+$R35))","v":0},{"$f":"RANK($W$34,$W$34:$W$42)","v":1},{"$f":"T34+(S34/100)+(U34/1000)","v":0.01}]
[null,null,null,null,null,null,{"$f":"Timetable!AF32","v":0},{"$f":"IF(AND(G34=0,I34=0),0,IF(G34>I34,2,1))","v":0},{"$f":"Timetable!AD32","v":0},{"$f":"Timetable!AD34","v":0},{"$f":"IF(AND(J34=0,L34=0),0,IF(J34>L34,2,1))","v":0},{"$f":"Timetable!AF34","v":0},{"$f":"Timetable!AF29","v":0},{"$f":"IF(AND(M34=0,O34=0),0,IF(M34>O34,2,1))","v":0},{"$f":"Timetable!AD29","v":0},null,{"$f":"IF(AND(P34=0,R34=0),0,IF(P34>R34,2,1))","v":0}]
[2,null,"LOSYS-LOSYS",{"$f":"Timetable!H32","v":0},null,{"$f":"Timetable!J32","v":0},null,null,null,{"$f":"Timetable!J30","v":0},null,{"$f":"Timetable!H30","v":0},{"$f":"Timetable!J33","v":0},null,{"$f":"Timetable!H33","v":0},null,null,null,{"$f":"IF($F36+$I36+$L36+$O36+$R36=0,$D36+$G36+$J36+$M36+$P36+1,($D36+$G36+$J36+$M36+$P36)/($F36+$I36+$L36+$O36+$R36))","v":1},{"$f":"$E37+$H37+$K37+$N37+$Q37","v":0},{"$f":"IF($F37+$I37+$L37+$O37+$R37=0,$D37+$G37+$J37+$M37+$P37+0,($D37+$G37+$J37+$M37+$P37)/($F37+$I37+$L37+$O37+$R37))","v":0},{"$f":"RANK($W$36,$W$34:$W$42)","v":1},{"$f":"T36+(S36/100)+(U36/1000)","v":0.01}]
[null,null,null,{"$f":"Timetable!AD32","v":0},{"$f":"IF(AND(D36=0,F36=0),0,IF(D36>F36,2,1))","v":0},{"$f":"Timetable!AF32","v":0},null,null,null,{"$f":"Timetable!AF30","v":0},{"$f":"IF(AND(J36=0,L36=0),0,IF(J36>L36,2,1))","v":0},{"$f":"Timetable!AD30","v":0},{"$f":"Timetable!AF33","v":0},{"$f":"IF(AND(M36=0,O36=0),0,IF(M36>O36,2,1))","v":0},{"$f":"Timetable!AD33","v":0},null,{"$f":"IF(AND(P36=0,R36=0),0,IF(P36>R36,2,1))","v":0}]
[3,null,"SAUKEVICIUS-MOCKUS",{"$f":"Timetable!J34","v":0},null,{"$f":"Timetable!H34","v":0},{"$f":"Timetable!H30","v":0},null,{"$f":"Timetable!J30","v":0},null,null,null,{"$f":"Timetable!H31","v":0},null,{"$f":"Timetable!J31","v":0},null,null,null,{"$f":"IF($F38+$I38+$L38+$O38+$R38=0,$D38+$G38+$J38+$M38+$P38+1,($D38+$G38+$J38+$M38+$P38)/($F38+$I38+$L38+$O38+$R38))","v":1},{"$f":"$E39+$H39+$K39+$N39+$Q39","v":0},{"$f":"IF($F39+$I39+$L39+$O39+$R39=0,$D39+$G39+$J39+$M39+$P39+0,($D39+$G39+$J39+$M39+$P39)/($F39+$I39+$L39+$O39+$R39))","v":0},{"$f":"RANK($W$38,$W$34:$W$42)","v":1},{"$f":"T38+(S38/100)+(U38/1000)","v":0.01}]
[null,null,null,{"$f":"Timetable!AF34","v":0},{"$f":"IF(AND(D38=0,F38=0),0,IF(D38>F38,2,1))","v":0},{"$f":"Timetable!AD34","v":0},{"$f":"Timetable!AD30","v":0},{"$f":"IF(AND(G38=0,I38=0),0,IF(G38>I38,2,1))","v":0},{"$f":"Timetable!AF30","v":0},null,null,null,{"$f":"Timetable!AD31","v":0},{"$f":"IF(AND(M38=0,O38=0),0,IF(M38>O38,2,1))","v":0},{"$f":"Timetable!AF31","v":0},null,{"$f":"IF(AND(P38=0,R38=0),0,IF(P38>R38,2,1))","v":0}]
[4,null,"SONGINAS-JUSKAUSKAS",{"$f":"Timetable!H29","v":0},null,{"$f":"Timetable!J29","v":0},{"$f":"Timetable!H33","v":0},null,{"$f":"Timetable!J33","v":0},{"$f":"Timetable!J31","v":0},null,{"$f":"Timetable!H31","v":0},null,null,null,null,null,null,{"$f":"IF($F40+$I40+$L40+$O40+$R40=0,$D40+$G40+$J40+$M40+$P40+1,($D40+$G40+$J40+$M40+$P40)/($F40+$I40+$L40+$O40+$R40))","v":1},{"$f":"$E41+$H41+$K41+$N41+$Q41","v":0},{"$f":"IF($F41+$I41+$L41+$O41+$R41=0,$D41+$G41+$J41+$M41+$P41+0,($D41+$G41+$J41+$M41+$P41)/($F41+$I41+$L41+$O41+$R41))","v":0},{"$f":"RANK($W$40,$W$34:$W$42)","v":1},{"$f":"T40+(S40/100)+(U40/1000)","v":0.01}]
[null,null,null,{"$f":"Timetable!AD29","v":0},{"$f":"IF(AND(D40=0,F40=0),0,IF(D40>F40,2,1))","v":0},{"$f":"Timetable!AF29","v":0},{"$f":"Timetable!AD33","v":0},{"$f":"IF(AND(G40=0,I40=0),0,IF(G40>I40,2,1))","v":0},{"$f":"Timetable!AF33","v":0},{"$f":"Timetable!AF31","v":0},{"$f":"IF(AND(J40=0,L40=0),0,IF(J40>L40,2,1))","v":0},{"$f":"Timetable!AD31","v":0},null,null,null,null,{"$f":"IF(AND(P40=0,R40=0),0,IF(P40>R40,2,1))","v":0}]
[5]
[]
[]
[]
["4 Pogrupis"]
[null,"Mst.","Komanda",1,null,null,2,null,null,3,null,null,4,null,null,5,null,null,"S","T","T.S","V","Taskai, ivertinus 2 kriterijus"]
[1,null,"GRABYS-NIKIFOROVAS",null,null,null,{"$f":"Timetable!J39","v":0},null,{"$f":"Timetable!H39","v":0},{"$f":"Timetable!H41","v":0},null,{"$f":"Timetable!J41","v":0},{"$f":"Timetable!J36","v":0},null,{"$f":"Timetable!H36","v":0},null,null,null,{"$f":"IF($F48+$I48+$L48+$O48+$R48=0,$D48+$G48+$J48+$M48+$P48+1,($D48+$G48+$J48+$M48+$P48)/($F48+$I48+$L48+$O48+$R48))","v":1},{"$f":"$E49+$H49+$K49+$N49+$Q49","v":0},{"$f":"IF($F49+$I49+$L49+$O49+$R49=0,$D49+$G49+$J49+$M49+$P49+0,($D49+$G49+$J49+$M49+$P49)/($F49+$I49+$L49+$O49+$R49))","v":0},{"$f":"RANK($W$48,$W$48:$W$56)","v":1},{"$f":"T48+(S48/100)+(U48/1000)","v":0.01}]
[null,null,null,null,null,null,{"$f":"Timetable!AF39","v":0},{"$f":"IF(AND(G48=0,I48=0),0,IF(G48>I48,2,1))","v":0},{"$f":"Timetable!AD39","v":0},{"$f":"Timetable!AD41","v":0},{"$f":"IF(AND(J48=0,L48=0),0,IF(J48>L48,2,1))","v":0},{"$f":"Timetable!AF41","v":0},{"$f":"Timetable!AF36","v":0},{"$f":"IF(AND(M48=0,O48=0),0,IF(M48>O48,2,1))","v":0},{"$f":"Timetable!AD36","v":0},null,{"$f":"IF(AND(P48=0,R48=0),0,IF(P48>R48,2,1))","v":0}]
[2,null,"VILCINSKAS-VILUTIS",{"$f":"Timetable!H39","v":0},null,{"$f":"Timetable!J39","v":0},null,null,null,{"$f":"Timetable!J37","v":0},null,{"$f":"Timetable!H37","v":0},{"$f":"Timetable!J40","v":0},null,{"$f":"Timetable!H40","v":0},null,null,null,{"$f":"IF($F50+$I50+$L50+$O50+$R50=0,$D50+$G50+$J50+$M50+$P50+1,($D50+$G50+$J50+$M50+$P50)/($F50+$I50+$L50+$O50+$R50))","v":1},{"$f":"$E51+$H51+$K51+$N51+$Q51","v":0},{"$f":"IF($F51+$I51+$L51+$O51+$R51=0,$D51+$G51+$J51+$M51+$P51+0,($D51+$G51+$J51+$M51+$P51)/($F51+$I51+$L51+$O51+$R51))","v":0},{"$f":"RANK($W$50,$W$48:$W$56)","v":1},{"$f":"T50+(S50/100)+(U50/1000)","v":0.01}]
[null,null,null,{"$f":"Timetable!AD39","v":0},{"$f":"IF(AND(D50=0,F50=0),0,IF(D50>F50,2,1))","v":0},{"$f":"Timetable!AF39","v":0},null,null,null,{"$f":"Timetable!AF37","v":0},{"$f":"IF(AND(J50=0,L50=0),0,IF(J50>L50,2,1))","v":0},{"$f":"Timetable!AD37","v":0},{"$f":"Timetable!AF40","v":0},{"$f":"IF(AND(M50=0,O50=0),0,IF(M50>O50,2,1))","v":0},{"$f":"Timetable!AD40","v":0},null,{"$f":"IF(AND(P50=0,R50=0),0,IF(P50>R50,2,1))","v":0}]
[3,null,"SNIAUKA-VAITKUS",{"$f":"Timetable!J41","v":0},null,{"$f":"Timetable!H41","v":0},{"$f":"Timetable!H37","v":0},null,{"$f":"Timetable!J37","v":0},null,null,null,{"$f":"Timetable!H38","v":0},null,{"$f":"Timetable!J38","v":0},null,null,null,{"$f":"IF($F52+$I52+$L52+$O52+$R52=0,$D52+$G52+$J52+$M52+$P52+1,($D52+$G52+$J52+$M52+$P52)/($F52+$I52+$L52+$O52+$R52))","v":1},{"$f":"$E53+$H53+$K53+$N53+$Q53","v":0},{"$f":"IF($F53+$I53+$L53+$O53+$R53=0,$D53+$G53+$J53+$M53+$P53+0,($D53+$G53+$J53+$M53+$P53)/($F53+$I53+$L53+$O53+$R53))","v":0},{"$f":"RANK($W$52,$W$48:$W$56)","v":1},{"$f":"T52+(S52/100)+(U52/1000)","v":0.01}]
[null,null,null,{"$f":"Timetable!AF41","v":0},{"$f":"IF(AND(D52=0,F52=0),0,IF(D52>F52,2,1))","v":0},{"$f":"Timetable!AD41","v":0},{"$f":"Timetable!AD37","v":0},{"$f":"IF(AND(G52=0,I52=0),0,IF(G52>I52,2,1))","v":0},{"$f":"Timetable!AF37","v":0},null,null,null,{"$f":"Timetable!AD38","v":0},{"$f":"IF(AND(M52=0,O52=0),0,IF(M52>O52,2,1))","v":0},{"$f":"Timetable!AF38","v":0},null,{"$f":"IF(AND(P52=0,R52=0),0,IF(P52>R52,2,1))","v":0}]
[4,null,"KRIUKONIS-LIPINSKAS",{"$f":"Timetable!H36","v":0},null,{"$f":"Timetable!J36","v":0},{"$f":"Timetable!H40","v":0},null,{"$f":"Timetable!J40","v":0},{"$f":"Timetable!J38","v":0},null,{"$f":"Timetable!H38","v":0},null,null,null,null,null,null,{"$f":"IF($F54+$I54+$L54+$O54+$R54=0,$D54+$G54+$J54+$M54+$P54+1,($D54+$G54+$J54+$M54+$P54)/($F54+$I54+$L54+$O54+$R54))","v":1},{"$f":"$E55+$H55+$K55+$N55+$Q55","v":0},{"$f":"IF($F55+$I55+$L55+$O55+$R55=0,$D55+$G55+$J55+$M55+$P55+0,($D55+$G55+$J55+$M55+$P55)/($F55+$I55+$L55+$O55+$R55))","v":0},{"$f":"RANK($W$54,$W$48:$W$56)","v":1},{"$f":"T54+(S54/100)+(U54/1000)","v":0.01}]
[null,null,null,{"$f":"Timetable!AD36","v":0},{"$f":"IF(AND(D54=0,F54=0),0,IF(D54>F54,2,1))","v":0},{"$f":"Timetable!AF36","v":0},{"$f":"Timetable!AD40","v":0},{"$f":"IF(AND(G54=0,I54=0),0,IF(G54>I54,2,1))","v":0},{"$f":"Timetable!AF40","v":0},{"$f":"Timetable!AF38","v":0},{"$f":"IF(AND(J54=0,L54=0),0,IF(J54>L54,2,1))","v":0},{"$f":"Timetable!AD38","v":0},null,null,null,null,{"$f":"IF(AND(P54=0,R54=0),0,IF(P54>R54,2,1))","v":0}]
[5]
[]
[]
[]
["5 Pogrupis"]
[null,"Mst.","Komanda",1,null,null,2,null,null,3,null,null,4,null,null,5,null,null,"S","T","T.S","V","Taskai, ivertinus 2 kriterijus"]
[1,null,"NIKITCENKO-HASANI",null,null,null,{"$f":"Timetable!J46","v":0},null,{"$f":"Timetable!H46","v":0},{"$f":"Timetable!H48","v":0},null,{"$f":"Timetable!J48","v":0},{"$f":"Timetable!J43","v":0},null,{"$f":"Timetable!H43","v":0},null,null,null,{"$f":"IF($F62+$I62+$L62+$O62+$R62=0,$D62+$G62+$J62+$M62+$P62+1,($D62+$G62+$J62+$M62+$P62)/($F62+$I62+$L62+$O62+$R62))","v":1},{"$f":"$E63+$H63+$K63+$N63+$Q63","v":0},{"$f":"IF($F63+$I63+$L63+$O63+$R63=0,$D63+$G63+$J63+$M63+$P63+0,($D63+$G63+$J63+$M63+$P63)/($F63+$I63+$L63+$O63+$R63))","v":0},{"$f":"RANK($W$62,$W$62:$W$70)","v":1},{"$f":"T62+(S62/100)+(U62/1000)","v":0.01}]
[null,null,null,null,null,null,{"$f":"Timetable!AF46","v":0},{"$f":"IF(AND(G62=0,I62=0),0,IF(G62>I62,2,1))","v":0},{"$f":"Timetable!AD46","v":0},{"$f":"Timetable!AD48","v":0},{"$f":"IF(AND(J62=0,L62=0),0,IF(J62>L62,2,1))","v":0},{"$f":"Timetable!AF48","v":0},{"$f":"Timetable!AF43","v":0},{"$f":"IF(AND(M62=0,O62=0),0,IF(M62>O62,2,1))","v":0},{"$f":"Timetable!AD43","v":0},null,{"$f":"IF(AND(P62=0,R62=0),0,IF(P62>R62,2,1))","v":0}]
[2,null,"AUGUNAS-CYVAS",{"$f":"Timetable!H46","v":0},null,{"$f":"Timetable!J46","v":0},null,null,null,{"$f":"Timetable!J44","v":0},null,{"$f":"Timetable!H44","v":0},{"$f":"Timetable!J47","v":0},null,{"$f":"Timetable!H47","v":0},null,null,null,{"$f":"IF($F64+$I64+$L64+$O64+$R64=0,$D64+$G64+$J64+$M64+$P64+1,($D64+$G64+$J64+$M64+$P64)/($F64+$I64+$L64+$O64+$R64))","v":1},{"$f":"$E65+$H65+$K65+$N65+$Q65","v":0},{"$f":"IF($F65+$I65+$L65+$O65+$R65=0,$D65+$G65+$J65+$M65+$P65+0,($D65+$G65+$J65+$M65+$P65)/($F65+$I65+$L65+$O65+$R65))","v":0},{"$f":"RANK($W$64,$W$62:$W$70)","v":1},{"$f":"T64+(S64/100)+(U64/1000)","v":0.01}]
[null,null,null,{"$f":"Timetable!AD46","v":0},{"$f":"IF(AND(D64=0,F64=0),0,IF(D64>F64,2,1))","v":0},{"$f":"Timetable!AF46","v":0},null,null,null,{"$f":"Timetable!AF44","v":0},{"$f":"IF(AND(J64=0,L64=0),0,IF(J64>L64,2,1))","v":0},{"$f":"Timetable!AD44","v":0},{"$f":"Timetable!AF47","v":0},{"$f":"IF(AND(M64=0,O64=0),0,IF(M64>O64,2,1))","v":0},{"$f":"Timetable!AD47","v":0},null,{"$f":"IF(AND(P64=0,R64=0),0,IF(P64>R64,2,1))","v":0}]
[3,null,"PREKEVICIUS-ANTANAVICIUS",{"$f":"Timetable!J48","v":0},null,{"$f":"Timetable!H48","v":0},{"$f":"Timetable!H44","v":0},null,{"$f":"Timetable!J44","v":0},null,null,null,{"$f":"Timetable!H45","v":0},null,{"$f":"Timetable!J45","v":0},null,null,null,{"$f":"IF($F66+$I66+$L66+$O66+$R66=0,$D66+$G66+$J66+$M66+$P66+1,($D66+$G66+$J66+$M66+$P66)/($F66+$I66+$L66+$O66+$R66))","v":1},{"$f":"$E67+$H67+$K67+$N67+$Q67","v":0},{"$f":"IF($F67+$I67+$L67+$O67+$R67=0,$D67+$G67+$J67+$M67+$P67+0,($D67+$G67+$J67+$M67+$P67)/($F67+$I67+$L67+$O67+$R67))","v":0},{"$f":"RANK($W$66,$W$62:$W$70)","v":1},{"$f":"T66+(S66/100)+(U66/1000)","v":0.01}]
[null,null,null,{"$f":"Timetable!AF48","v":0},{"$f":"IF(AND(D66=0,F66=0),0,IF(D66>F66,2,1))","v":0},{"$f":"Timetable!AD48","v":0},{"$f":"Timetable!AD44","v":0},{"$f":"IF(AND(G66=0,I66=0),0,IF(G66>I66,2,1))","v":0},{"$f":"Timetable!AF44","v":0},null,null,null,{"$f":"Timetable!AD45","v":0},{"$f":"IF(AND(M66=0,O66=0),0,IF(M66>O66,2,1))","v":0},{"$f":"Timetable!AF45","v":0},null,{"$f":"IF(AND(P66=0,R66=0),0,IF(P66>R66,2,1))","v":0}]
[4,null,"JASKAUSKAS-KAVOLYNAS",{"$f":"Timetable!H43","v":0},null,{"$f":"Timetable!J43","v":0},{"$f":"Timetable!H47","v":0},null,{"$f":"Timetable!J47","v":0},{"$f":"Timetable!J45","v":0},null,{"$f":"Timetable!H45","v":0},null,null,null,null,null,null,{"$f":"IF($F68+$I68+$L68+$O68+$R68=0,$D68+$G68+$J68+$M68+$P68+1,($D68+$G68+$J68+$M68+$P68)/($F68+$I68+$L68+$O68+$R68))","v":1},{"$f":"$E69+$H69+$K69+$N69+$Q69","v":0},{"$f":"IF($F69+$I69+$L69+$O69+$R69=0,$D69+$G69+$J69+$M69+$P69+0,($D69+$G69+$J69+$M69+$P69)/($F69+$I69+$L69+$O69+$R69))","v":0},{"$f":"RANK($W$68,$W$62:$W$70)","v":1},{"$f":"T68+(S68/100)+(U68/1000)","v":0.01}]
[null,null,null,{"$f":"Timetable!AD43","v":0},{"$f":"IF(AND(D68=0,F68=0),0,IF(D68>F68,2,1))","v":0},{"$f":"Timetable!AF43","v":0},{"$f":"Timetable!AD47","v":0},{"$f":"IF(AND(G68=0,I68=0),0,IF(G68>I68,2,1))","v":0},{"$f":"Timetable!AF47","v":0},{"$f":"Timetable!AF45","v":0},{"$f":"IF(AND(J68=0,L68=0),0,IF(J68>L68,2,1))","v":0},{"$f":"Timetable!AD45","v":0},null,null,null,null,{"$f":"IF(AND(P68=0,R68=0),0,IF(P68>R68,2,1))","v":0}]
[5]
[]
[]
[]
["6 Pogrupis"]
[null,"Mst.","Komanda",1,null,null,2,null,null,3,null,null,4,null,null,5,null,null,"S","T","T.S","V","Taskai, ivertinus 2 kriterijus"]
[1,null,"SEMIONOVAS-SNIPAS",null,null,null,{"$f":"Timetable!J53","v":0},null,{"$f":"Timetable!H53","v":0},{"$f":"Timetable!H55","v":0},null,{"$f":"Timetable!J55","v":0},{"$f":"Timetable!J50","v":0},null,{"$f":"Timetable!H50","v":0},null,null,null,{"$f":"IF($F76+$I76+$L76+$O76+$R76=0,$D76+$G76+$J76+$M76+$P76+1,($D76+$G76+$J76+$M76+$P76)/($F76+$I76+$L76+$O76+$R76))","v":1},{"$f":"$E77+$H77+$K77+$N77+$Q77","v":0},{"$f":"IF($F77+$I77+$L77+$O77+$R77=0,$D77+$G77+$J77+$M77+$P77+0,($D77+$G77+$J77+$M77+$P77)/($F77+$I77+$L77+$O77+$R77))","v":0},{"$f":"RANK($W$76,$W$76:$W$84)","v":1},{"$f":"T76+(S76/100)+(U76/1000)","v":0.01}]
[null,null,null,null,null,null,{"$f":"Timetable!AF53","v":0},{"$f":"IF(AND(G76=0,I76=0),0,IF(G76>I76,2,1))","v":0},{"$f":"Timetable!AD53","v":0},{"$f":"Timetable!AD55","v":0},{"$f":"IF(AND(J76=0,L76=0),0,IF(J76>L76,2,1))","v":0},{"$f":"Timetable!AF55","v":0},{"$f":"Timetable!AF50","v":0},{"$f":"IF(AND(M76=0,O76=0),0,IF(M76>O76,2,1))","v":0},{"$f":"Timetable!AD50","v":0},null,{"$f":"IF(AND(P76=0,R76=0),0,IF(P76>R76,2,1))","v":0}]
[2,null,"TUMOSA-STANIULIS",{"$f":"Timetable!H53","v":0},null,{"$f":"Timetable!J53","v":0},null,null,null,{"$f":"Timetable!J51","v":0},null,{"$f":"Timetable!H51","v":0},{"$f":"Timetable!J54","v":0},null,{"$f":"Timetable!H54","v":0},null,null,null,{"$f":"IF($F78+$I78+$L78+$O78+$R78=0,$D78+$G78+$J78+$M78+$P78+1,($D78+$G78+$J78+$M78+$P78)/($F78+$I78+$L78+$O78+$R78))","v":1},{"$f":"$E79+$H79+$K79+$N79+$Q79","v":0},{"$f":"IF($F79+$I79+$L79+$O79+$R79=0,$D79+$G79+$J79+$M79+$P79+0,($D79+$G79+$J79+$M79+$P79)/($F79+$I79+$L79+$O79+$R79))","v":0},{"$f":"RANK($W$78,$W$76:$W$84)","v":1},{"$f":"T78+(S78/100)+(U78/1000)","v":0.01}]
[null,null,null,{"$f":"Timetable!AD53","v":0},{"$f":"IF(AND(D78=0,F78=0),0,IF(D78>F78,2,1))","v":0},{"$f":"Timetable!AF53","v":0},null,null,null,{"$f":"Timetable!AF51","v":0},{"$f":"IF(AND(J78=0,L78=0),0,IF(J78>L78,2,1))","v":0},{"$f":"Timetable!AD51","v":0},{"$f":"Timetable!AF54","v":0},{"$f":"IF(AND(M78=0,O78=0),0,IF(M78>O78,2,1))","v":0},{"$f":"Timetable!AD54","v":0},null,{"$f":"IF(AND(P78=0,R78=0),0,IF(P78>R78,2,1))","v":0}]
[3,null,"BARADULINAS-KAZLAUSKAS",{"$f":"Timetable!J55","v":0},null,{"$f":"Timetable!H55","v":0},{"$f":"Timetable!H51","v":0},null,{"$f":"Timetable!J51","v":0},null,null,null,{"$f":"Timetable!H52","v":0},null,{"$f":"Timetable!J52","v":0},null,null,null,{"$f":"IF($F80+$I80+$L80+$O80+$R80=0,$D80+$G80+$J80+$M80+$P80+1,($D80+$G80+$J80+$M80+$P80)/($F80+$I80+$L80+$O80+$R80))","v":1},{"$f":"$E81+$H81+$K81+$N81+$Q81","v":0},{"$f":"IF($F81+$I81+$L81+$O81+$R81=0,$D81+$G81+$J81+$M81+$P81+0,($D81+$G81+$J81+$M81+$P81)/($F81+$I81+$L81+$O81+$R81))","v":0},{"$f":"RANK($W$80,$W$76:$W$84)","v":1},{"$f":"T80+(S80/100)+(U80/1000)","v":0.01}]
[null,null,null,{"$f":"Timetable!AF55","v":0},{"$f":"IF(AND(D80=0,F80=0),0,IF(D80>F80,2,1))","v":0},{"$f":"Timetable!AD55","v":0},{"$f":"Timetable!AD51","v":0},{"$f":"IF(AND(G80=0,I80=0),0,IF(G80>I80,2,1))","v":0},{"$f":"Timetable!AF51","v":0},null,null,null,{"$f":"Timetable!AD52","v":0},{"$f":"IF(AND(M80=0,O80=0),0,IF(M80>O80,2,1))","v":0},{"$f":"Timetable!AF52","v":0},null,{"$f":"IF(AND(P80=0,R80=0),0,IF(P80>R80,2,1))","v":0}]
[4,null,"MATACIUNAS-GRAINYS",{"$f":"Timetable!H50","v":0},null,{"$f":"Timetable!J50","v":0},{"$f":"Timetable!H54","v":0},null,{"$f":"Timetable!J54","v":0},{"$f":"Timetable!J52","v":0},null,{"$f":"Timetable!H52","v":0},null,null,null,null,null,null,{"$f":"IF($F82+$I82+$L82+$O82+$R82=0,$D82+$G82+$J82+$M82+$P82+1,($D82+$G82+$J82+$M82+$P82)/($F82+$I82+$L82+$O82+$R82))","v":1},{"$f":"$E83+$H83+$K83+$N83+$Q83","v":0},{"$f":"IF($F83+$I83+$L83+$O83+$R83=0,$D83+$G83+$J83+$M83+$P83+0,($D83+$G83+$J83+$M83+$P83)/($F83+$I83+$L83+$O83+$R83))","v":0},{"$f":"RANK($W$82,$W$76:$W$84)","v":1},{"$f":"T82+(S82/100)+(U82/1000)","v":0.01}]
[null,null,null,{"$f":"Timetable!AD50","v":0},{"$f":"IF(AND(D82=0,F82=0),0,IF(D82>F82,2,1))","v":0},{"$f":"Timetable!AF50","v":0},{"$f":"Timetable!AD54","v":0},{"$f":"IF(AND(G82=0,I82=0),0,IF(G82>I82,2,1))","v":0},{"$f":"Timetable!AF54","v":0},{"$f":"Timetable!AF52","v":0},{"$f":"IF(AND(J82=0,L82=0),0,IF(J82>L82,2,1))","v":0},{"$f":"Timetable!AD52","v":0},null,null,null,null,{"$f":"IF(AND(P82=0,R82=0),0,IF(P82>R82,2,1))","v":0}]
[5]